BEGIN:VCALENDAR
VERSION:2.0
PRODID:-//Tek Results - ECPv6.15.18//NONSGML v1.0//EN
CALSCALE:GREGORIAN
METHOD:PUBLISH
X-WR-CALNAME:Tek Results
X-ORIGINAL-URL:https://tekresults.net
X-WR-CALDESC:Events for Tek Results
REFRESH-INTERVAL;VALUE=DURATION:PT1H
X-Robots-Tag:noindex
X-PUBLISHED-TTL:PT1H
BEGIN:VTIMEZONE
TZID:UTC
BEGIN:STANDARD
TZOFFSETFROM:+0000
TZOFFSETTO:+0000
TZNAME:UTC
DTSTART:20230101T000000
END:STANDARD
END:VTIMEZONE
BEGIN:VEVENT
DTSTART;TZID=UTC:20241116T110000
DTEND;TZID=UTC:20241116T163000
DTSTAMP:20260419T155543
CREATED:20240919T023100Z
LAST-MODIFIED:20240919T025032Z
UID:5484-1731754800-1731774600@tekresults.net
SUMMARY:Renee "Sunshine" Curry-Davis Baptist Track Classic
DESCRIPTION:Renee Sunshine Davies-Curry Baptist Classic Rules
URL:https://tekresults.net/event/renee-sunshine-curry-davis-baptist-track-classic/
LOCATION:Old Thomas A. Robinson Stadium\, Nassau\, NP\, Bahamas
END:VEVENT
END:VCALENDAR