BEGIN:VCALENDAR
VERSION:2.0
PRODID:-//Tek Results - ECPv6.15.18//NONSGML v1.0//EN
CALSCALE:GREGORIAN
METHOD:PUBLISH
X-ORIGINAL-URL:https://tekresults.net
X-WR-CALDESC:Events for Tek Results
REFRESH-INTERVAL;VALUE=DURATION:PT1H
X-Robots-Tag:noindex
X-PUBLISHED-TTL:PT1H
BEGIN:VTIMEZONE
TZID:UTC
BEGIN:STANDARD
TZOFFSETFROM:+0000
TZOFFSETTO:+0000
TZNAME:UTC
DTSTART:20250101T000000
END:STANDARD
END:VTIMEZONE
BEGIN:VEVENT
DTSTART;TZID=UTC:20260131T100000
DTEND;TZID=UTC:20260131T183000
DTSTAMP:20260425T132116
CREATED:20260103T153615Z
LAST-MODIFIED:20260103T154115Z
UID:5827-1769853600-1769884200@tekresults.net
SUMMARY:6th Annual Red-Line Sonja Knowles Track Classic - DAY I
DESCRIPTION:Red-Line Track Classic Package 2026 revRed-Line Track Classic Package 2026 rev
URL:https://tekresults.net/event/6th-annual-red-line-sonja-knowles-track-classic/
LOCATION:Old Thomas A. Robinson Stadium\, Nassau\, NP\, Bahamas
END:VEVENT
END:VCALENDAR