BEGIN:VCALENDAR
VERSION:2.0
PRODID:-//Tek Results - ECPv6.15.18//NONSGML v1.0//EN
CALSCALE:GREGORIAN
METHOD:PUBLISH
X-WR-CALNAME:Tek Results
X-ORIGINAL-URL:https://tekresults.net
X-WR-CALDESC:Events for Tek Results
REFRESH-INTERVAL;VALUE=DURATION:PT1H
X-Robots-Tag:noindex
X-PUBLISHED-TTL:PT1H
BEGIN:VTIMEZONE
TZID:UTC
BEGIN:STANDARD
TZOFFSETFROM:+0000
TZOFFSETTO:+0000
TZNAME:UTC
DTSTART:20230101T000000
END:STANDARD
END:VTIMEZONE
BEGIN:VEVENT
DTSTART;VALUE=DATE:20240306
DTEND;VALUE=DATE:20240309
DTSTAMP:20260421T210349
CREATED:20240225T024636Z
LAST-MODIFIED:20240225T024636Z
UID:4807-1709683200-1709942399@tekresults.net
SUMMARY:BAISS Track & Field Championship
DESCRIPTION:
URL:https://tekresults.net/event/baiss-track-field-championship/
LOCATION:Old Thomas A. Robinson Stadium\, Nassau\, NP\, Bahamas
END:VEVENT
BEGIN:VEVENT
DTSTART;VALUE=DATE:20240228
DTEND;VALUE=DATE:20240302
DTSTAMP:20260421T210349
CREATED:20240225T024526Z
LAST-MODIFIED:20240225T024526Z
UID:4804-1709078400-1709337599@tekresults.net
SUMMARY:GSSSA Jr. & Sr. High Track & Field Championships
DESCRIPTION:
URL:https://tekresults.net/event/gsssa-jr-sr-high-track-field-championships/
LOCATION:Old Thomas A. Robinson Stadium\, Nassau\, NP\, Bahamas
END:VEVENT
END:VCALENDAR