BEGIN:VCALENDAR
VERSION:2.0
PRODID:-//Tek Results - ECPv6.15.18//NONSGML v1.0//EN
CALSCALE:GREGORIAN
METHOD:PUBLISH
X-WR-CALNAME:Tek Results
X-ORIGINAL-URL:https://tekresults.net
X-WR-CALDESC:Events for Tek Results
REFRESH-INTERVAL;VALUE=DURATION:PT1H
X-Robots-Tag:noindex
X-PUBLISHED-TTL:PT1H
BEGIN:VTIMEZONE
TZID:UTC
BEGIN:STANDARD
TZOFFSETFROM:+0000
TZOFFSETTO:+0000
TZNAME:UTC
DTSTART:20240101T000000
END:STANDARD
END:VTIMEZONE
BEGIN:VEVENT
DTSTART;VALUE=DATE:20250405
DTEND;VALUE=DATE:20250406
DTSTAMP:20260419T202435
CREATED:20250109T041827Z
LAST-MODIFIED:20250109T041827Z
UID:5552-1743811200-1743897599@tekresults.net
SUMMARY:Bahamas Carifta Trials - DAY II
DESCRIPTION:
URL:https://tekresults.net/event/bahamas-carifta-trials-day-ii/
LOCATION:Old Thomas A. Robinson Stadium\, Nassau\, NP\, Bahamas
END:VEVENT
BEGIN:VEVENT
DTSTART;VALUE=DATE:20250406
DTEND;VALUE=DATE:20250407
DTSTAMP:20260419T202435
CREATED:20250109T041926Z
LAST-MODIFIED:20250109T042213Z
UID:5554-1743897600-1743983999@tekresults.net
SUMMARY:Bahamas Carifta Trials - DAY III
DESCRIPTION:
URL:https://tekresults.net/event/bahamas-carifta-trials-day-ii-2/
LOCATION:Old Thomas A. Robinson Stadium\, Nassau\, NP\, Bahamas
END:VEVENT
BEGIN:VEVENT
DTSTART;VALUE=DATE:20250503
DTEND;VALUE=DATE:20250504
DTSTAMP:20260419T202435
CREATED:20250111T171023Z
LAST-MODIFIED:20250111T171023Z
UID:5565-1746230400-1746316799@tekresults.net
SUMMARY:Red-Line Youth Track Classic - DAY I
DESCRIPTION:
URL:https://tekresults.net/event/red-line-youth-track-classic-day-i/
LOCATION:Old Thomas A. Robinson Stadium\, Nassau\, NP\, Bahamas
END:VEVENT
BEGIN:VEVENT
DTSTART;VALUE=DATE:20250504
DTEND;VALUE=DATE:20250505
DTSTAMP:20260419T202435
CREATED:20250111T171214Z
LAST-MODIFIED:20250111T171214Z
UID:5567-1746316800-1746403199@tekresults.net
SUMMARY:Red-Line Youth Track Classic - DAY II
DESCRIPTION:
URL:https://tekresults.net/event/red-line-youth-track-classic-day-ii/
LOCATION:Old Thomas A. Robinson Stadium\, Nassau\, NP\, Bahamas
END:VEVENT
BEGIN:VEVENT
DTSTART;VALUE=DATE:20250510
DTEND;VALUE=DATE:20250511
DTSTAMP:20260419T202435
CREATED:20250111T171553Z
LAST-MODIFIED:20250510T143444Z
UID:5569-1746835200-1746921599@tekresults.net
SUMMARY:Silver Lightning Classic
DESCRIPTION:
URL:https://tekresults.net/event/fritz-grant-classic/
LOCATION:Old Thomas A. Robinson Stadium\, Nassau\, NP\, Bahamas
END:VEVENT
BEGIN:VEVENT
DTSTART;VALUE=DATE:20250516
DTEND;VALUE=DATE:20250517
DTSTAMP:20260419T202435
CREATED:20250111T172637Z
LAST-MODIFIED:20250510T134116Z
UID:5579-1747353600-1747439999@tekresults.net
SUMMARY:Spring Fling - DAY I
DESCRIPTION:
URL:https://tekresults.net/event/spring-fling-day-i/
LOCATION:Grand Bahama Sporting Complex\, Freeport\, Grand Bahama
END:VEVENT
BEGIN:VEVENT
DTSTART;VALUE=DATE:20250517
DTEND;VALUE=DATE:20250518
DTSTAMP:20260419T202435
CREATED:20250111T172719Z
LAST-MODIFIED:20250510T134230Z
UID:5581-1747440000-1747526399@tekresults.net
SUMMARY:Spring Fling - DAY II
DESCRIPTION:
URL:https://tekresults.net/event/spring-fling-day-ii/
LOCATION:Grand Bahama Sporting Complex\, Freeport\, Grand Bahama
END:VEVENT
BEGIN:VEVENT
DTSTART;TZID=UTC:20250524T100000
DTEND;TZID=UTC:20250524T170000
DTSTAMP:20260419T202435
CREATED:20250510T143654Z
LAST-MODIFIED:20250510T143755Z
UID:5735-1748080800-1748106000@tekresults.net
SUMMARY:St. Barnabas Anglican Church Men 3rd Annual Youth Track & Field Classic
DESCRIPTION:
URL:https://tekresults.net/event/st-barnabas-anglican-church-men-3rd-annual-youth-track-field-classic/
LOCATION:Old Thomas A. Robinson Stadium\, Nassau\, NP\, Bahamas
END:VEVENT
BEGIN:VEVENT
DTSTART;TZID=UTC:20250607T110000
DTEND;TZID=UTC:20250607T190000
DTSTAMP:20260419T202435
CREATED:20250111T171712Z
LAST-MODIFIED:20250524T210643Z
UID:5571-1749294000-1749322800@tekresults.net
SUMMARY:BAAA Age Group Trials - DAY I
DESCRIPTION:
URL:https://tekresults.net/event/bahamas-youth-nationals-day-i/
LOCATION:Old Thomas A. Robinson Stadium\, Nassau\, NP\, Bahamas
END:VEVENT
BEGIN:VEVENT
DTSTART;TZID=UTC:20250608T140000
DTEND;TZID=UTC:20250608T190000
DTSTAMP:20260419T202435
CREATED:20250111T171806Z
LAST-MODIFIED:20250524T210454Z
UID:5573-1749391200-1749409200@tekresults.net
SUMMARY:BAAA Age Group Trials - DAY II
DESCRIPTION:
URL:https://tekresults.net/event/bahamas-youth-nationals-day-ii/
LOCATION:Old Thomas A. Robinson Stadium\, Nassau\, NP\, Bahamas
END:VEVENT
BEGIN:VEVENT
DTSTART;VALUE=DATE:20250815
DTEND;VALUE=DATE:20250818
DTSTAMP:20260419T202435
CREATED:20250524T204735Z
LAST-MODIFIED:20250524T205157Z
UID:5769-1755216000-1755475199@tekresults.net
SUMMARY:NACAC Open Championship
DESCRIPTION:
URL:https://tekresults.net/event/nacac-open-championship-session-1/
LOCATION:Old Thomas A. Robinson Stadium\, Nassau\, NP\, Bahamas
END:VEVENT
BEGIN:VEVENT
DTSTART;VALUE=DATE:20250823
DTEND;VALUE=DATE:20250824
DTSTAMP:20260419T202435
CREATED:20250111T171948Z
LAST-MODIFIED:20250111T171948Z
UID:5575-1755907200-1755993599@tekresults.net
SUMMARY:Bahamas Senior Nationals - DAY I
DESCRIPTION:
URL:https://tekresults.net/event/bahamas-senior-nationals-day-i/
LOCATION:Old Thomas A. Robinson Stadium\, Nassau\, NP\, Bahamas
END:VEVENT
BEGIN:VEVENT
DTSTART;VALUE=DATE:20250824
DTEND;VALUE=DATE:20250825
DTSTAMP:20260419T202435
CREATED:20250111T172327Z
LAST-MODIFIED:20250111T172327Z
UID:5577-1755993600-1756079999@tekresults.net
SUMMARY:Bahamas Senior Nationals - DAY II
DESCRIPTION:
URL:https://tekresults.net/event/bahamas-senior-nationals-day-ii/
LOCATION:Old Thomas A. Robinson Stadium\, Nassau\, NP\, Bahamas
END:VEVENT
BEGIN:VEVENT
DTSTART;TZID=UTC:20260109T180000
DTEND;TZID=UTC:20260109T233000
DTSTAMP:20260419T202435
CREATED:20260103T094843Z
LAST-MODIFIED:20260103T151518Z
UID:5814-1767981600-1768001400@tekresults.net
SUMMARY:T-Bird Flyers 2026 Track Classic - DAY I
DESCRIPTION:Honourig the Late Gr    egory Clarke
URL:https://tekresults.net/event/t-bird-flyers-2026-track-classic-day-i/
LOCATION:Old Thomas A. Robinson Stadium\, Nassau\, NP\, Bahamas
END:VEVENT
BEGIN:VEVENT
DTSTART;TZID=UTC:20260110T120000
DTEND;TZID=UTC:20260110T120000
DTSTAMP:20260419T202435
CREATED:20260103T094515Z
LAST-MODIFIED:20260103T152402Z
UID:5810-1768046400-1768046400@tekresults.net
SUMMARY:T-Bird Flyers 2026 Track Classic - DAY II
DESCRIPTION:Honourig the Late Gregory Clarke
URL:https://tekresults.net/event/t-bird-flyers-2026-track-classic-day-1/
LOCATION:Old Thomas A. Robinson Stadium\, Nassau\, NP\, Bahamas
END:VEVENT
BEGIN:VEVENT
DTSTART;TZID=UTC:20260117T090000
DTEND;TZID=UTC:20260117T183000
DTSTAMP:20260419T202435
CREATED:20260103T155122Z
LAST-MODIFIED:20260103T155317Z
UID:5838-1768640400-1768674600@tekresults.net
SUMMARY:8th DTSP WolfPack - Ambush 2026
DESCRIPTION:Alexander Doyle Burrows Wolfpack Classic \nhttps://tekresults.net/wp-content/uploads/2026/01/DTSP-WoulfPAck-AD.mp4
URL:https://tekresults.net/event/8th-dtsp-wolfpack-ambush-2026/
LOCATION:Old Thomas A. Robinson Stadium\, Nassau\, NP\, Bahamas
END:VEVENT
BEGIN:VEVENT
DTSTART;TZID=UTC:20260124T090000
DTEND;TZID=UTC:20260124T183000
DTSTAMP:20260419T202435
CREATED:20260103T170025Z
LAST-MODIFIED:20260103T170025Z
UID:5843-1769245200-1769279400@tekresults.net
SUMMARY:23rd Star Performers Track & Field Classic 2026
DESCRIPTION:
URL:https://tekresults.net/event/23rd-star-performers-track-field-classic-2026/
LOCATION:Old Thomas A. Robinson Stadium\, Nassau\, NP\, Bahamas
END:VEVENT
BEGIN:VEVENT
DTSTART;TZID=UTC:20260131T100000
DTEND;TZID=UTC:20260131T183000
DTSTAMP:20260419T202435
CREATED:20260103T153615Z
LAST-MODIFIED:20260103T154115Z
UID:5827-1769853600-1769884200@tekresults.net
SUMMARY:6th Annual Red-Line Sonja Knowles Track Classic - DAY I
DESCRIPTION:Red-Line Track Classic Package 2026 revRed-Line Track Classic Package 2026 rev
URL:https://tekresults.net/event/6th-annual-red-line-sonja-knowles-track-classic/
LOCATION:Old Thomas A. Robinson Stadium\, Nassau\, NP\, Bahamas
END:VEVENT
BEGIN:VEVENT
DTSTART;TZID=UTC:20260201T130000
DTEND;TZID=UTC:20260201T183000
DTSTAMP:20260419T202435
CREATED:20260103T153746Z
LAST-MODIFIED:20260301T221006Z
UID:5833-1769950800-1769970600@tekresults.net
SUMMARY:6th Annual Red-Line Sonja Knowles Track Classic - DAY II
DESCRIPTION:Red-Line Track Classic Package 2026 revRed-Line Track Classic Package 2026 rev
URL:https://tekresults.net/event/6th-annual-red-line-sonja-knowles-track-classic-clone/
LOCATION:Old Thomas A. Robinson Stadium\, Nassau\, NP\, Bahamas
END:VEVENT
BEGIN:VEVENT
DTSTART;TZID=UTC:20260304T090000
DTEND;TZID=UTC:20260304T170000
DTSTAMP:20260419T202435
CREATED:20260301T221420Z
LAST-MODIFIED:20260301T223654Z
UID:5934-1772614800-1772643600@tekresults.net
SUMMARY:GSSSA Jr & Sr High School Champs - DAY I
DESCRIPTION:
URL:https://tekresults.net/event/gsssa-jr-sr-high-school-champs/
LOCATION:Old Thomas A. Robinson Stadium\, Nassau\, NP\, Bahamas
END:VEVENT
BEGIN:VEVENT
DTSTART;TZID=UTC:20260305T090000
DTEND;TZID=UTC:20260305T170000
DTSTAMP:20260419T202435
CREATED:20260301T221541Z
LAST-MODIFIED:20260301T223722Z
UID:5937-1772701200-1772730000@tekresults.net
SUMMARY:GSSSA Jr & Sr High School Champs - DAY II
DESCRIPTION:
URL:https://tekresults.net/event/gsssa-jr-sr-high-school-champs-day-2/
LOCATION:Old Thomas A. Robinson Stadium\, Nassau\, NP\, Bahamas
END:VEVENT
BEGIN:VEVENT
DTSTART;TZID=UTC:20260305T100000
DTEND;TZID=UTC:20260305T170000
DTSTAMP:20260419T202435
CREATED:20260301T222411Z
LAST-MODIFIED:20260301T223801Z
UID:5941-1772704800-1772730000@tekresults.net
SUMMARY:Northern Bahamas High School Regional - DAY I
DESCRIPTION:
URL:https://tekresults.net/event/northern-bahamas-high-school-regional/
LOCATION:Grand Bahama Sporting Complex\, Freeport\, Grand Bahama
END:VEVENT
BEGIN:VEVENT
DTSTART;TZID=UTC:20260306T090000
DTEND;TZID=UTC:20260306T170000
DTSTAMP:20260419T202435
CREATED:20260301T221641Z
LAST-MODIFIED:20260301T223848Z
UID:5939-1772787600-1772816400@tekresults.net
SUMMARY:GSSSA Jr & Sr High School Champs - DAY III
DESCRIPTION:
URL:https://tekresults.net/event/gsssa-jr-sr-high-school-champs-day-3/
LOCATION:Old Thomas A. Robinson Stadium\, Nassau\, NP\, Bahamas
END:VEVENT
BEGIN:VEVENT
DTSTART;TZID=UTC:20260306T100000
DTEND;TZID=UTC:20260306T170000
DTSTAMP:20260419T202435
CREATED:20260301T222522Z
LAST-MODIFIED:20260301T223930Z
UID:5944-1772791200-1772816400@tekresults.net
SUMMARY:Northern Bahamas High School Regional - Day II
DESCRIPTION:
URL:https://tekresults.net/event/northern-bahamas-high-school-regional-day-2/
LOCATION:Grand Bahama Sporting Complex\, Freeport\, Grand Bahama
END:VEVENT
BEGIN:VEVENT
DTSTART;TZID=UTC:20260307T100000
DTEND;TZID=UTC:20260307T170000
DTSTAMP:20260419T202435
CREATED:20260301T222618Z
LAST-MODIFIED:20260301T223959Z
UID:5946-1772877600-1772902800@tekresults.net
SUMMARY:Northern Bahamas High School Regional - Day III
DESCRIPTION:
URL:https://tekresults.net/event/northern-bahamas-high-school-regional-day-3/
LOCATION:Grand Bahama Sporting Complex\, Freeport\, Grand Bahama
END:VEVENT
BEGIN:VEVENT
DTSTART;TZID=UTC:20260309T100000
DTEND;TZID=UTC:20260309T170000
DTSTAMP:20260419T202435
CREATED:20260301T223143Z
LAST-MODIFIED:20260301T224031Z
UID:5948-1773050400-1773075600@tekresults.net
SUMMARY:BAISS - DAY I
DESCRIPTION:
URL:https://tekresults.net/event/baiss/
LOCATION:Old Thomas A. Robinson Stadium\, Nassau\, NP\, Bahamas
END:VEVENT
BEGIN:VEVENT
DTSTART;TZID=UTC:20260310T100000
DTEND;TZID=UTC:20260310T170000
DTSTAMP:20260419T202435
CREATED:20260301T223242Z
LAST-MODIFIED:20260301T224108Z
UID:5951-1773136800-1773162000@tekresults.net
SUMMARY:BAISS - DAY II
DESCRIPTION:
URL:https://tekresults.net/event/baiss-day-2/
LOCATION:Old Thomas A. Robinson Stadium\, Nassau\, NP\, Bahamas
END:VEVENT
BEGIN:VEVENT
DTSTART;TZID=UTC:20260311T100000
DTEND;TZID=UTC:20260311T170000
DTSTAMP:20260419T202435
CREATED:20260301T223424Z
LAST-MODIFIED:20260301T224145Z
UID:5953-1773223200-1773248400@tekresults.net
SUMMARY:BAISS - DAY III
DESCRIPTION:
URL:https://tekresults.net/event/baiss-day-3/
LOCATION:Old Thomas A. Robinson Stadium\, Nassau\, NP\, Bahamas
END:VEVENT
BEGIN:VEVENT
DTSTART;TZID=UTC:20260312T100000
DTEND;TZID=UTC:20260312T170000
DTSTAMP:20260419T202435
CREATED:20260301T224347Z
LAST-MODIFIED:20260301T224347Z
UID:5964-1773309600-1773334800@tekresults.net
SUMMARY:BSAA - DAY I
DESCRIPTION:
URL:https://tekresults.net/event/bsaa-day-i/
LOCATION:Old Thomas A. Robinson Stadium\, Nassau\, NP\, Bahamas
END:VEVENT
BEGIN:VEVENT
DTSTART;TZID=UTC:20260312T100000
DTEND;TZID=UTC:20260312T170000
DTSTAMP:20260419T202435
CREATED:20260301T225520Z
LAST-MODIFIED:20260301T225520Z
UID:5974-1773309600-1773334800@tekresults.net
SUMMARY:Northeastern Bahamas High School Regional - DAY I
DESCRIPTION:
URL:https://tekresults.net/event/northeastern-bahamas-high-school-regional-day-i/
LOCATION:Presont Albury High School
END:VEVENT
END:VCALENDAR