BEGIN:VCALENDAR
VERSION:2.0
PRODID:-//Tek Results - ECPv6.15.18//NONSGML v1.0//EN
CALSCALE:GREGORIAN
METHOD:PUBLISH
X-ORIGINAL-URL:https://tekresults.net
X-WR-CALDESC:Events for Tek Results
REFRESH-INTERVAL;VALUE=DURATION:PT1H
X-Robots-Tag:noindex
X-PUBLISHED-TTL:PT1H
BEGIN:VTIMEZONE
TZID:UTC
BEGIN:STANDARD
TZOFFSETFROM:+0000
TZOFFSETTO:+0000
TZNAME:UTC
DTSTART:20230101T000000
END:STANDARD
END:VTIMEZONE
BEGIN:VEVENT
DTSTART;VALUE=DATE:20240406
DTEND;VALUE=DATE:20240407
DTSTAMP:20260421T152258
CREATED:20240225T024914Z
LAST-MODIFIED:20240225T025040Z
UID:4811-1712361600-1712447999@tekresults.net
SUMMARY:St Barnabas ACM Track & Field Classic
DESCRIPTION:
URL:https://tekresults.net/event/st-barnabas-acm-track-field-classic/
LOCATION:Old Thomas A. Robinson Stadium\, Nassau\, NP\, Bahamas
END:VEVENT
BEGIN:VEVENT
DTSTART;VALUE=DATE:20240411
DTEND;VALUE=DATE:20240415
DTSTAMP:20260421T152258
CREATED:20240225T025020Z
LAST-MODIFIED:20240225T025020Z
UID:4813-1712793600-1713139199@tekresults.net
SUMMARY:Bahamas National High School Track & Field Championship
DESCRIPTION:
URL:https://tekresults.net/event/bahamas-national-high-school-track-field-championship/
LOCATION:Old Thomas A. Robinson Stadium\, Nassau\, NP\, Bahamas
END:VEVENT
BEGIN:VEVENT
DTSTART;VALUE=DATE:20240424
DTEND;VALUE=DATE:20240427
DTSTAMP:20260421T152258
CREATED:20240318T191340Z
LAST-MODIFIED:20240318T192032Z
UID:5353-1713916800-1714175999@tekresults.net
SUMMARY:New Providence Public Primary Schools Champ
DESCRIPTION:
URL:https://tekresults.net/event/new-providence-public-primary-schools-champ/
LOCATION:Old Thomas A. Robinson Stadium\, Nassau\, NP\, Bahamas
END:VEVENT
END:VCALENDAR