BEGIN:VCALENDAR
VERSION:2.0
PRODID:-//Tek Results - ECPv6.15.18//NONSGML v1.0//EN
CALSCALE:GREGORIAN
METHOD:PUBLISH
X-ORIGINAL-URL:https://tekresults.net
X-WR-CALDESC:Events for Tek Results
REFRESH-INTERVAL;VALUE=DURATION:PT1H
X-Robots-Tag:noindex
X-PUBLISHED-TTL:PT1H
BEGIN:VTIMEZONE
TZID:UTC
BEGIN:STANDARD
TZOFFSETFROM:+0000
TZOFFSETTO:+0000
TZNAME:UTC
DTSTART:20230101T000000
END:STANDARD
END:VTIMEZONE
BEGIN:VEVENT
DTSTART;TZID=UTC:20240612T170000
DTEND;TZID=UTC:20240612T214000
DTSTAMP:20260421T124052
CREATED:20240602T003656Z
LAST-MODIFIED:20240602T004523Z
UID:5452-1718211600-1718228400@tekresults.net
SUMMARY:WACT SILVER - NACAC New Life Invitational
DESCRIPTION:
URL:https://tekresults.net/event/nacac-new-life-invitational/
LOCATION:NP
END:VEVENT
BEGIN:VEVENT
DTSTART;VALUE=DATE:20240626
DTEND;VALUE=DATE:20240629
DTSTAMP:20260421T124052
CREATED:20240318T192432Z
LAST-MODIFIED:20240602T004643Z
UID:5364-1719360000-1719619199@tekresults.net
SUMMARY:Bahamas Jr. & Sr. Nationals and Kids Invitational
DESCRIPTION:
URL:https://tekresults.net/event/jr-sr-nationals/
LOCATION:NP
END:VEVENT
END:VCALENDAR