BEGIN:VCALENDAR
VERSION:2.0
PRODID:-//Tek Results - ECPv6.15.18//NONSGML v1.0//EN
CALSCALE:GREGORIAN
METHOD:PUBLISH
X-ORIGINAL-URL:https://tekresults.net
X-WR-CALDESC:Events for Tek Results
REFRESH-INTERVAL;VALUE=DURATION:PT1H
X-Robots-Tag:noindex
X-PUBLISHED-TTL:PT1H
BEGIN:VTIMEZONE
TZID:UTC
BEGIN:STANDARD
TZOFFSETFROM:+0000
TZOFFSETTO:+0000
TZNAME:UTC
DTSTART:20240101T000000
END:STANDARD
END:VTIMEZONE
BEGIN:VEVENT
DTSTART;VALUE=DATE:20250305
DTEND;VALUE=DATE:20250306
DTSTAMP:20260423T020239
CREATED:20250109T040900Z
LAST-MODIFIED:20250109T040900Z
UID:5530-1741132800-1741219199@tekresults.net
SUMMARY:BAISS - DAY I
DESCRIPTION:
URL:https://tekresults.net/event/baiss-day-i/
LOCATION:Old Thomas A. Robinson Stadium\, Nassau\, NP\, Bahamas
END:VEVENT
BEGIN:VEVENT
DTSTART;VALUE=DATE:20250306
DTEND;VALUE=DATE:20250307
DTSTAMP:20260423T020239
CREATED:20250109T040942Z
LAST-MODIFIED:20250109T040942Z
UID:5532-1741219200-1741305599@tekresults.net
SUMMARY:BAISS - DAY II
DESCRIPTION:
URL:https://tekresults.net/event/baiss-day-ii/
LOCATION:Old Thomas A. Robinson Stadium\, Nassau\, NP\, Bahamas
END:VEVENT
BEGIN:VEVENT
DTSTART;VALUE=DATE:20250307
DTEND;VALUE=DATE:20250308
DTSTAMP:20260423T020239
CREATED:20250109T041033Z
LAST-MODIFIED:20250109T041033Z
UID:5534-1741305600-1741391999@tekresults.net
SUMMARY:BAISS - DAY III
DESCRIPTION:
URL:https://tekresults.net/event/baiss-day-iii/
LOCATION:Old Thomas A. Robinson Stadium\, Nassau\, NP\, Bahamas
END:VEVENT
BEGIN:VEVENT
DTSTART;VALUE=DATE:20250312
DTEND;VALUE=DATE:20250313
DTSTAMP:20260423T020239
CREATED:20250109T041146Z
LAST-MODIFIED:20250109T041146Z
UID:5536-1741737600-1741823999@tekresults.net
SUMMARY:GSSSA High School Championships - DAY I
DESCRIPTION:
URL:https://tekresults.net/event/gsssa-high-school-championships-day-i/
LOCATION:Old Thomas A. Robinson Stadium\, Nassau\, NP\, Bahamas
END:VEVENT
BEGIN:VEVENT
DTSTART;VALUE=DATE:20250313
DTEND;VALUE=DATE:20250314
DTSTAMP:20260423T020239
CREATED:20250109T041226Z
LAST-MODIFIED:20250109T041226Z
UID:5538-1741824000-1741910399@tekresults.net
SUMMARY:GSSSA High School Championships - DAY II
DESCRIPTION:
URL:https://tekresults.net/event/gsssa-high-school-championships-day-ii/
LOCATION:Old Thomas A. Robinson Stadium\, Nassau\, NP\, Bahamas
END:VEVENT
BEGIN:VEVENT
DTSTART;VALUE=DATE:20250314
DTEND;VALUE=DATE:20250315
DTSTAMP:20260423T020239
CREATED:20250109T041309Z
LAST-MODIFIED:20250109T041309Z
UID:5540-1741910400-1741996799@tekresults.net
SUMMARY:GSSSA High School Championships - DAY III
DESCRIPTION:
URL:https://tekresults.net/event/gsssa-high-school-championships-day-iii/
LOCATION:Old Thomas A. Robinson Stadium\, Nassau\, NP\, Bahamas
END:VEVENT
BEGIN:VEVENT
DTSTART;VALUE=DATE:20250320
DTEND;VALUE=DATE:20250321
DTSTAMP:20260423T020239
CREATED:20250109T041416Z
LAST-MODIFIED:20250109T041416Z
UID:5542-1742428800-1742515199@tekresults.net
SUMMARY:Bahamas High School Nationals - DAY I
DESCRIPTION:
URL:https://tekresults.net/event/bahamas-high-school-nationals-day-i/
LOCATION:Old Thomas A. Robinson Stadium\, Nassau\, NP\, Bahamas
END:VEVENT
BEGIN:VEVENT
DTSTART;VALUE=DATE:20250321
DTEND;VALUE=DATE:20250322
DTSTAMP:20260423T020239
CREATED:20250109T041517Z
LAST-MODIFIED:20250109T041517Z
UID:5544-1742515200-1742601599@tekresults.net
SUMMARY:Bahamas High School Nationals - DAY II
DESCRIPTION:
URL:https://tekresults.net/event/bahamas-high-school-nationals-day-ii/
LOCATION:Old Thomas A. Robinson Stadium\, Nassau\, NP\, Bahamas
END:VEVENT
BEGIN:VEVENT
DTSTART;VALUE=DATE:20250322
DTEND;VALUE=DATE:20250323
DTSTAMP:20260423T020239
CREATED:20250109T041555Z
LAST-MODIFIED:20250109T041555Z
UID:5546-1742601600-1742687999@tekresults.net
SUMMARY:Bahamas High School Nationals - DAY III
DESCRIPTION:
URL:https://tekresults.net/event/bahamas-high-school-nationals-day-iii/
LOCATION:Old Thomas A. Robinson Stadium\, Nassau\, NP\, Bahamas
END:VEVENT
BEGIN:VEVENT
DTSTART;VALUE=DATE:20250330
DTEND;VALUE=DATE:20250331
DTSTAMP:20260423T020239
CREATED:20250109T041650Z
LAST-MODIFIED:20250109T041650Z
UID:5548-1743292800-1743379199@tekresults.net
SUMMARY:Red-Line Field Events Classic
DESCRIPTION:
URL:https://tekresults.net/event/red-line-field-events-classic/
LOCATION:Old Thomas A. Robinson Stadium\, Nassau\, NP\, Bahamas
END:VEVENT
END:VCALENDAR