BEGIN:VCALENDAR
VERSION:2.0
PRODID:-//Tek Results - ECPv6.15.18//NONSGML v1.0//EN
CALSCALE:GREGORIAN
METHOD:PUBLISH
X-WR-CALNAME:Tek Results
X-ORIGINAL-URL:https://tekresults.net
X-WR-CALDESC:Events for Tek Results
REFRESH-INTERVAL;VALUE=DURATION:PT1H
X-Robots-Tag:noindex
X-PUBLISHED-TTL:PT1H
BEGIN:VTIMEZONE
TZID:UTC
BEGIN:STANDARD
TZOFFSETFROM:+0000
TZOFFSETTO:+0000
TZNAME:UTC
DTSTART:20240101T000000
END:STANDARD
END:VTIMEZONE
BEGIN:VEVENT
DTSTART;VALUE=DATE:20250503
DTEND;VALUE=DATE:20250504
DTSTAMP:20260423T051927
CREATED:20250111T171023Z
LAST-MODIFIED:20250111T171023Z
UID:5565-1746230400-1746316799@tekresults.net
SUMMARY:Red-Line Youth Track Classic - DAY I
DESCRIPTION:
URL:https://tekresults.net/event/red-line-youth-track-classic-day-i/
LOCATION:Old Thomas A. Robinson Stadium\, Nassau\, NP\, Bahamas
END:VEVENT
BEGIN:VEVENT
DTSTART;VALUE=DATE:20250504
DTEND;VALUE=DATE:20250505
DTSTAMP:20260423T051927
CREATED:20250111T171214Z
LAST-MODIFIED:20250111T171214Z
UID:5567-1746316800-1746403199@tekresults.net
SUMMARY:Red-Line Youth Track Classic - DAY II
DESCRIPTION:
URL:https://tekresults.net/event/red-line-youth-track-classic-day-ii/
LOCATION:Old Thomas A. Robinson Stadium\, Nassau\, NP\, Bahamas
END:VEVENT
BEGIN:VEVENT
DTSTART;VALUE=DATE:20250510
DTEND;VALUE=DATE:20250511
DTSTAMP:20260423T051927
CREATED:20250111T171553Z
LAST-MODIFIED:20250510T143444Z
UID:5569-1746835200-1746921599@tekresults.net
SUMMARY:Silver Lightning Classic
DESCRIPTION:
URL:https://tekresults.net/event/fritz-grant-classic/
LOCATION:Old Thomas A. Robinson Stadium\, Nassau\, NP\, Bahamas
END:VEVENT
BEGIN:VEVENT
DTSTART;VALUE=DATE:20250516
DTEND;VALUE=DATE:20250517
DTSTAMP:20260423T051927
CREATED:20250111T172637Z
LAST-MODIFIED:20250510T134116Z
UID:5579-1747353600-1747439999@tekresults.net
SUMMARY:Spring Fling - DAY I
DESCRIPTION:
URL:https://tekresults.net/event/spring-fling-day-i/
LOCATION:Grand Bahama Sporting Complex\, Freeport\, Grand Bahama
END:VEVENT
BEGIN:VEVENT
DTSTART;VALUE=DATE:20250517
DTEND;VALUE=DATE:20250518
DTSTAMP:20260423T051927
CREATED:20250111T172719Z
LAST-MODIFIED:20250510T134230Z
UID:5581-1747440000-1747526399@tekresults.net
SUMMARY:Spring Fling - DAY II
DESCRIPTION:
URL:https://tekresults.net/event/spring-fling-day-ii/
LOCATION:Grand Bahama Sporting Complex\, Freeport\, Grand Bahama
END:VEVENT
BEGIN:VEVENT
DTSTART;TZID=UTC:20250524T100000
DTEND;TZID=UTC:20250524T170000
DTSTAMP:20260423T051927
CREATED:20250510T143654Z
LAST-MODIFIED:20250510T143755Z
UID:5735-1748080800-1748106000@tekresults.net
SUMMARY:St. Barnabas Anglican Church Men 3rd Annual Youth Track & Field Classic
DESCRIPTION:
URL:https://tekresults.net/event/st-barnabas-anglican-church-men-3rd-annual-youth-track-field-classic/
LOCATION:Old Thomas A. Robinson Stadium\, Nassau\, NP\, Bahamas
END:VEVENT
END:VCALENDAR